BEGIN:VCALENDAR
VERSION:2.0
PRODID:-//Expressive Arts Burlington - ECPv6.15.20//NONSGML v1.0//EN
CALSCALE:GREGORIAN
METHOD:PUBLISH
X-WR-CALNAME:Expressive Arts Burlington
X-ORIGINAL-URL:https://expressiveartsburlington.com
X-WR-CALDESC:Events for Expressive Arts Burlington
REFRESH-INTERVAL;VALUE=DURATION:PT1H
X-Robots-Tag:noindex
X-PUBLISHED-TTL:PT1H
BEGIN:VTIMEZONE
TZID:UTC
BEGIN:STANDARD
TZOFFSETFROM:+0000
TZOFFSETTO:+0000
TZNAME:UTC
DTSTART:20220101T000000
END:STANDARD
END:VTIMEZONE
BEGIN:VEVENT
DTSTART;TZID=UTC:20231206T093000
DTEND;TZID=UTC:20231206T120000
DTSTAMP:20260421T191151
CREATED:20231013T220356Z
LAST-MODIFIED:20231130T051205Z
UID:5448-1701855000-1701864000@expressiveartsburlington.com
SUMMARY:Dance\, Paint\, Write! (Session 2)
DESCRIPTION:Explore the intersection of modalities in this meditative flow. We’ll weave together movement\, painting\, and writing while listening to the inspirations of an ever-changing soundtrack. Each participant focuses on their own creative experience while being held in community. This process is designed to be accessible to all individuals\, regardless of mobility. Open to adults and teens. Appropriate for complete beginners and movers\, artists and writers of all skill levels. No experience required. Each Dance\, Paint\, Write! offering will be in hybrid format\, meaning participants can choose to attend in person at the Expressive Arts Burlington studio\, or by connecting via Zoom. \nGo to page »
URL:https://expressiveartsburlington.com/event/dance-paint-write-session-2-2/
LOCATION:Expressive Arts Burlington\, 208 Flynn Ave Suite 3A\, Burlington\, VT\, 05401\, United States
ATTACH;FMTTYPE=image/png:https://expressiveartsburlington.com/wp-content/uploads/2023/10/Untitled-31.png
END:VEVENT
BEGIN:VEVENT
DTSTART;TZID=UTC:20231207T123000
DTEND;TZID=UTC:20231207T143000
DTSTAMP:20260421T191151
CREATED:20230703T184124Z
LAST-MODIFIED:20231130T051116Z
UID:5103-1701952200-1701959400@expressiveartsburlington.com
SUMMARY:Open Studio
DESCRIPTION:Open Studio starts with a guided meditation\, followed by an hour + of art making and concludes with a share and witness process. Feel free to use the time and music to engage in which-ever expressive modality moves you. Gather  your favorite materials to zoom in with or start something new with studio materials. No experience required. Enter the flow with us in this nonjudgmental circle of acceptance and creative energy.  Meet new friends and make art in a creative community setting. Many materials available in studio. \nDonation-based: Donate via PayPal\, Venmo\, cash\, or check.\nIn studio & online \nZoom Link: Click here\nMeeting ID: 828 7378 3298\nPasscode: 371361
URL:https://expressiveartsburlington.com/event/open-studio-32/
LOCATION:Expressive Arts Burlington\, 208 Flynn Ave Suite 3A\, Burlington\, VT\, 05401\, United States
END:VEVENT
BEGIN:VEVENT
DTSTART;TZID=UTC:20231210T100000
DTEND;TZID=UTC:20231210T160000
DTSTAMP:20260421T191151
CREATED:20230424T184516Z
LAST-MODIFIED:20231130T051056Z
UID:4658-1702202400-1702224000@expressiveartsburlington.com
SUMMARY:Dance\, Paint\, Write! (Full Day)
DESCRIPTION:Explore the intersection of modalities in this meditative flow. We’ll weave together movement\, painting\, and writing while listening to the inspirations of an ever-changing soundtrack. Each participant focuses on their own creative experience while being held in community. This process is designed to be accessible to all individuals\, regardless of mobility. Open to adults and teens. Appropriate for complete beginners and movers\, artists and writers of all skill levels. No experience required. Each Dance\, Paint\, Write! offering will be in hybrid format\, meaning participants can choose to attend in person at the Expressive Arts Burlington studio\, or by connecting via Zoom. \nGo to page »
URL:https://expressiveartsburlington.com/event/dance-paint-write-full-day/
LOCATION:Expressive Arts Burlington\, 208 Flynn Ave Suite 3A\, Burlington\, VT\, 05401\, United States
ATTACH;FMTTYPE=image/png:https://expressiveartsburlington.com/wp-content/uploads/2023/10/Untitled-31.png
END:VEVENT
BEGIN:VEVENT
DTSTART;TZID=UTC:20231211T183000
DTEND;TZID=UTC:20231211T210000
DTSTAMP:20260421T191151
CREATED:20230703T184928Z
LAST-MODIFIED:20231130T051030Z
UID:5123-1702319400-1702328400@expressiveartsburlington.com
SUMMARY:Collage Collective
DESCRIPTION:This is an open group of collage enthusiasts who gather the second Monday of the month\, 6:30 pm – 9:00 pm EST to cut\, paste and create collaging works of wonder. Open to beginners and experienced collage makers alike. We have fun!  We meet in studio and simultaneously via zoom. If you are joining from home\, gather your materials and zoom in. We do a check in and sometimes chat\, sometimes get right into the work. Inspiring music is played\, (you can turn off your volume if preferred!) Depending on the crowd we will stop 30 to 45 minutes before 9:00 pm to share and witness. No judgment\, no talent required.  \nDonation-based: Donate via PayPal\, Venmo\, cash\, or check.\nIn studio & online \nZoom Link: Click here\nMeeting ID: 152 228 507\nPasscode: collage
URL:https://expressiveartsburlington.com/event/collage-collective-7/
LOCATION:Expressive Arts Burlington\, 208 Flynn Ave Suite 3A\, Burlington\, VT\, 05401\, United States
END:VEVENT
BEGIN:VEVENT
DTSTART;TZID=UTC:20231212T183000
DTEND;TZID=UTC:20231212T210000
DTSTAMP:20260421T191151
CREATED:20230703T185527Z
LAST-MODIFIED:20231130T050948Z
UID:5132-1702405800-1702414800@expressiveartsburlington.com
SUMMARY:Dance\, Paint\, Write! (Session 3)
DESCRIPTION:Explore the intersection of modalities in this meditative flow. We’ll weave together movement\, painting\, and writing while listening to the inspirations of an ever-changing soundtrack. Each participant focuses on their own creative experience while being held in community. This process is designed to be accessible to all individuals\, regardless of mobility. Open to adults and teens. Appropriate for complete beginners and movers\, artists and writers of all skill levels. No experience required. Each Dance\, Paint\, Write! offering will be in hybrid format\, meaning participants can choose to attend in person at the Expressive Arts Burlington studio\, or by connecting via Zoom. \nGo to page »
URL:https://expressiveartsburlington.com/event/dance-paint-write-online-session-4/
LOCATION:Expressive Arts Burlington\, 208 Flynn Ave Suite 3A\, Burlington\, VT\, 05401\, United States
END:VEVENT
BEGIN:VEVENT
DTSTART;VALUE=DATE:20231213
DTEND;VALUE=DATE:20231214
DTSTAMP:20260421T191151
CREATED:20231013T223604Z
LAST-MODIFIED:20231013T223604Z
UID:5469-1702425600-1702511999@expressiveartsburlington.com
SUMMARY:NO DANCE\, PAINT\, WRITE!
DESCRIPTION:
URL:https://expressiveartsburlington.com/event/no-dance-paint-write/
END:VEVENT
END:VCALENDAR