BEGIN:VCALENDAR
VERSION:2.0
PRODID:-//Expressive Arts Burlington - ECPv6.15.20//NONSGML v1.0//EN
CALSCALE:GREGORIAN
METHOD:PUBLISH
X-WR-CALNAME:Expressive Arts Burlington
X-ORIGINAL-URL:https://expressiveartsburlington.com
X-WR-CALDESC:Events for Expressive Arts Burlington
REFRESH-INTERVAL;VALUE=DURATION:PT1H
X-Robots-Tag:noindex
X-PUBLISHED-TTL:PT1H
BEGIN:VTIMEZONE
TZID:UTC
BEGIN:STANDARD
TZOFFSETFROM:+0000
TZOFFSETTO:+0000
TZNAME:UTC
DTSTART:20220101T000000
END:STANDARD
END:VTIMEZONE
BEGIN:VEVENT
DTSTART;TZID=UTC:20230608T123000
DTEND;TZID=UTC:20230608T143000
DTSTAMP:20260421T191509
CREATED:20230501T232023Z
LAST-MODIFIED:20230501T232023Z
UID:4874-1686227400-1686234600@expressiveartsburlington.com
SUMMARY:Open Studio
DESCRIPTION:Donation-based: Donate via PayPal\, Venmo\, cash\, or check.\nIn studio & online \nZoom Link: Click here\nMeeting ID: 828 7378 3298\nPasscode: 371361
URL:https://expressiveartsburlington.com/event/open-studio-10/
LOCATION:Expressive Arts Burlington\, 208 Flynn Ave Suite 3A\, Burlington\, VT\, 05401\, United States
END:VEVENT
BEGIN:VEVENT
DTSTART;TZID=UTC:20230601T123000
DTEND;TZID=UTC:20230601T143000
DTSTAMP:20260421T191509
CREATED:20230501T231900Z
LAST-MODIFIED:20230501T231900Z
UID:4870-1685622600-1685629800@expressiveartsburlington.com
SUMMARY:Open Studio
DESCRIPTION:Donation-based: Donate via PayPal\, Venmo\, cash\, or check.\nIn studio & online \nZoom Link: Click here\nMeeting ID: 828 7378 3298\nPasscode: 371361
URL:https://expressiveartsburlington.com/event/open-studio-9/
LOCATION:Expressive Arts Burlington\, 208 Flynn Ave Suite 3A\, Burlington\, VT\, 05401\, United States
END:VEVENT
BEGIN:VEVENT
DTSTART;TZID=UTC:20230528T090000
DTEND;TZID=UTC:20230528T120000
DTSTAMP:20260421T191509
CREATED:20230424T175236Z
LAST-MODIFIED:20230424T190301Z
UID:4594-1685264400-1685275200@expressiveartsburlington.com
SUMMARY:Intro to SoulCollage®
DESCRIPTION:Go to page »
URL:https://expressiveartsburlington.com/event/intro-to-soulcollage-2/
LOCATION:Expressive Arts Burlington\, 208 Flynn Ave Suite 3A\, Burlington\, VT\, 05401\, United States
END:VEVENT
BEGIN:VEVENT
DTSTART;TZID=UTC:20230525T123000
DTEND;TZID=UTC:20230525T143000
DTSTAMP:20260421T191509
CREATED:20230424T184427Z
LAST-MODIFIED:20230424T184427Z
UID:4655-1685017800-1685025000@expressiveartsburlington.com
SUMMARY:Open Studio
DESCRIPTION:Donation-based: Donate via PayPal\, Venmo\, cash\, or check.\nIn studio & online \nZoom Link: Click here\nMeeting ID: 828 7378 3298\nPasscode: 371361
URL:https://expressiveartsburlington.com/event/open-studio-8/
LOCATION:Expressive Arts Burlington\, 208 Flynn Ave Suite 3A\, Burlington\, VT\, 05401\, United States
END:VEVENT
BEGIN:VEVENT
DTSTART;TZID=UTC:20230518T123000
DTEND;TZID=UTC:20230518T143000
DTSTAMP:20260421T191509
CREATED:20230424T184257Z
LAST-MODIFIED:20230424T184257Z
UID:4652-1684413000-1684420200@expressiveartsburlington.com
SUMMARY:Open Studio
DESCRIPTION:Donation-based: Donate via PayPal\, Venmo\, cash\, or check.\nIn studio & online \nZoom Link: Click here\nMeeting ID: 828 7378 3298\nPasscode: 371361
URL:https://expressiveartsburlington.com/event/open-studio-7/
LOCATION:Expressive Arts Burlington\, 208 Flynn Ave Suite 3A\, Burlington\, VT\, 05401\, United States
END:VEVENT
BEGIN:VEVENT
DTSTART;TZID=UTC:20230511T123000
DTEND;TZID=UTC:20230511T143000
DTSTAMP:20260421T191509
CREATED:20230424T184126Z
LAST-MODIFIED:20230424T184143Z
UID:4648-1683808200-1683815400@expressiveartsburlington.com
SUMMARY:Open Studio
DESCRIPTION:Donation-based: Donate via PayPal\, Venmo\, cash\, or check.\nIn studio & online \nZoom Link: Click here\nMeeting ID: 828 7378 3298\nPasscode: 371361
URL:https://expressiveartsburlington.com/event/open-studio-6/
LOCATION:Expressive Arts Burlington\, 208 Flynn Ave Suite 3A\, Burlington\, VT\, 05401\, United States
END:VEVENT
END:VCALENDAR