BEGIN:VCALENDAR
VERSION:2.0
PRODID:-//Expressive Arts Burlington - ECPv6.15.20//NONSGML v1.0//EN
CALSCALE:GREGORIAN
METHOD:PUBLISH
X-ORIGINAL-URL:https://expressiveartsburlington.com
X-WR-CALDESC:Events for Expressive Arts Burlington
REFRESH-INTERVAL;VALUE=DURATION:PT1H
X-Robots-Tag:noindex
X-PUBLISHED-TTL:PT1H
BEGIN:VTIMEZONE
TZID:UTC
BEGIN:STANDARD
TZOFFSETFROM:+0000
TZOFFSETTO:+0000
TZNAME:UTC
DTSTART:20220101T000000
END:STANDARD
END:VTIMEZONE
BEGIN:VEVENT
DTSTART;TZID=UTC:20231004T093000
DTEND;TZID=UTC:20231004T120000
DTSTAMP:20260421T191530
CREATED:20230424T184744Z
LAST-MODIFIED:20230816T214932Z
UID:4664-1696411800-1696420800@expressiveartsburlington.com
SUMMARY:Dance\, Paint\, Write! Session 3
DESCRIPTION:Go to page »
URL:https://expressiveartsburlington.com/event/dance-paint-write-session-3/
LOCATION:Expressive Arts Burlington\, 208 Flynn Ave Suite 3A\, Burlington\, VT\, 05401\, United States
END:VEVENT
BEGIN:VEVENT
DTSTART;TZID=UTC:20231005T123000
DTEND;TZID=UTC:20231005T143000
DTSTAMP:20260421T191530
CREATED:20230703T183359Z
LAST-MODIFIED:20230703T183359Z
UID:5085-1696509000-1696516200@expressiveartsburlington.com
SUMMARY:Open Studio
DESCRIPTION:Donation-based: Donate via PayPal\, Venmo\, cash\, or check.\nIn studio & online \nZoom Link: Click here\nMeeting ID: 828 7378 3298\nPasscode: 371361
URL:https://expressiveartsburlington.com/event/open-studio-24/
LOCATION:Expressive Arts Burlington\, 208 Flynn Ave Suite 3A\, Burlington\, VT\, 05401\, United States
END:VEVENT
BEGIN:VEVENT
DTSTART;TZID=UTC:20231009T183000
DTEND;TZID=UTC:20231009T210000
DTSTAMP:20260421T191530
CREATED:20230703T184827Z
LAST-MODIFIED:20230816T213907Z
UID:5119-1696876200-1696885200@expressiveartsburlington.com
SUMMARY:Collage Collective
DESCRIPTION:Donation-based: Donate via PayPal\, Venmo\, cash\, or check.\nIn studio & online \nZoom Link: Click here\nMeeting ID: 152 228 507\nPasscode: collage
URL:https://expressiveartsburlington.com/event/collage-collective-5/
LOCATION:Expressive Arts Burlington\, 208 Flynn Ave Suite 3A\, Burlington\, VT\, 05401\, United States
END:VEVENT
BEGIN:VEVENT
DTSTART;TZID=UTC:20231010T183000
DTEND;TZID=UTC:20231010T203000
DTSTAMP:20260421T191530
CREATED:20230424T181414Z
LAST-MODIFIED:20230424T185612Z
UID:4615-1696962600-1696969800@expressiveartsburlington.com
SUMMARY:SoulCollage®: Meet the Suits (Session 5: Community)
DESCRIPTION:Go to page »
URL:https://expressiveartsburlington.com/event/soulcollage-meet-the-suits-session-5-community/
LOCATION:Expressive Arts Burlington\, 208 Flynn Ave Suite 3A\, Burlington\, VT\, 05401\, United States
END:VEVENT
BEGIN:VEVENT
DTSTART;TZID=UTC:20231011T093000
DTEND;TZID=UTC:20231011T120000
DTSTAMP:20260421T191530
CREATED:20230424T184816Z
LAST-MODIFIED:20230424T185936Z
UID:4666-1697016600-1697025600@expressiveartsburlington.com
SUMMARY:Dance\, Paint\, Write! Session 4
DESCRIPTION:Go to page »
URL:https://expressiveartsburlington.com/event/dance-paint-write-session-4/
LOCATION:Expressive Arts Burlington\, 208 Flynn Ave Suite 3A\, Burlington\, VT\, 05401\, United States
END:VEVENT
BEGIN:VEVENT
DTSTART;TZID=UTC:20231012T123000
DTEND;TZID=UTC:20231012T143000
DTSTAMP:20260421T191530
CREATED:20230703T183436Z
LAST-MODIFIED:20230703T183436Z
UID:5087-1697113800-1697121000@expressiveartsburlington.com
SUMMARY:Open Studio
DESCRIPTION:Donation-based: Donate via PayPal\, Venmo\, cash\, or check.\nIn studio & online \nZoom Link: Click here\nMeeting ID: 828 7378 3298\nPasscode: 371361
URL:https://expressiveartsburlington.com/event/open-studio-25/
LOCATION:Expressive Arts Burlington\, 208 Flynn Ave Suite 3A\, Burlington\, VT\, 05401\, United States
END:VEVENT
END:VCALENDAR