BEGIN:VCALENDAR
VERSION:2.0
PRODID:-//Expressive Arts Burlington - ECPv6.15.20//NONSGML v1.0//EN
CALSCALE:GREGORIAN
METHOD:PUBLISH
X-ORIGINAL-URL:https://expressiveartsburlington.com
X-WR-CALDESC:Events for Expressive Arts Burlington
REFRESH-INTERVAL;VALUE=DURATION:PT1H
X-Robots-Tag:noindex
X-PUBLISHED-TTL:PT1H
BEGIN:VTIMEZONE
TZID:America/New_York
BEGIN:DAYLIGHT
TZOFFSETFROM:-0500
TZOFFSETTO:-0400
TZNAME:EDT
DTSTART:20240310T070000
END:DAYLIGHT
BEGIN:STANDARD
TZOFFSETFROM:-0400
TZOFFSETTO:-0500
TZNAME:EST
DTSTART:20241103T060000
END:STANDARD
BEGIN:DAYLIGHT
TZOFFSETFROM:-0500
TZOFFSETTO:-0400
TZNAME:EDT
DTSTART:20250309T070000
END:DAYLIGHT
BEGIN:STANDARD
TZOFFSETFROM:-0400
TZOFFSETTO:-0500
TZNAME:EST
DTSTART:20251102T060000
END:STANDARD
BEGIN:DAYLIGHT
TZOFFSETFROM:-0500
TZOFFSETTO:-0400
TZNAME:EDT
DTSTART:20260308T070000
END:DAYLIGHT
BEGIN:STANDARD
TZOFFSETFROM:-0400
TZOFFSETTO:-0500
TZNAME:EST
DTSTART:20261101T060000
END:STANDARD
BEGIN:DAYLIGHT
TZOFFSETFROM:-0500
TZOFFSETTO:-0400
TZNAME:EDT
DTSTART:20270314T070000
END:DAYLIGHT
BEGIN:STANDARD
TZOFFSETFROM:-0400
TZOFFSETTO:-0500
TZNAME:EST
DTSTART:20271107T060000
END:STANDARD
END:VTIMEZONE
BEGIN:VEVENT
DTSTART;TZID=America/New_York:20250925T123000
DTEND;TZID=America/New_York:20250925T143000
DTSTAMP:20260422T132126
CREATED:20250214T005948Z
LAST-MODIFIED:20250214T005948Z
UID:6357-1758803400-1758810600@expressiveartsburlington.com
SUMMARY:Open Studio
DESCRIPTION:Open Studio starts with a guided meditation\, followed by an hour + of art making and concludes with a share and witness process. Feel free to use the time and music to engage in which-ever expressive modality moves you. Gather  your favorite materials to zoom in with or start something new with studio materials. No experience required. Enter the flow with us in this nonjudgmental circle of acceptance and creative energy.  Meet new friends and make art in a creative community setting. Many materials available in studio. \nDonation-based: Donate via PayPal\, Venmo\, cash\, or check.\nIn studio & online \nZoom Link: Click here\nMeeting ID: 828 7378 3298\nPasscode: 371361
URL:https://expressiveartsburlington.com/event/open-studio-44-2-2-2-2-5-2-2-2-2-6-11-2/
LOCATION:VT
ATTACH;FMTTYPE=image/jpeg:https://expressiveartsburlington.com/wp-content/uploads/2023/09/IMG_4289-scaled.jpg
END:VEVENT
BEGIN:VEVENT
DTSTART;TZID=America/New_York:20251013T183000
DTEND;TZID=America/New_York:20251013T210000
DTSTAMP:20260422T132126
CREATED:20240828T013944Z
LAST-MODIFIED:20240828T013944Z
UID:6216-1760380200-1760389200@expressiveartsburlington.com
SUMMARY:Collage Collective
DESCRIPTION:This is an open group of collage enthusiasts who gather the second Monday of the month\, 6:30 pm – 9:00 pm EST to cut\, paste and create collaging works of wonder. Open to beginners and experienced collage makers alike. We have fun!  We meet in studio and simultaneously via zoom. If you are joining from home\, gather your materials and zoom in. We do a check in and sometimes chat\, sometimes get right into the work. Inspiring music is played\, (you can turn off your volume if preferred!) Depending on the crowd we will stop 30 to 45 minutes before 9:00 pm to share and witness. No judgment\, no talent required.  \nGo to page –>
URL:https://expressiveartsburlington.com/event/collage-collective-13-2-2-2-2-2-2-2-2-2-2-2-2-2-3-2/
LOCATION:Expressive Arts Burlington\, 208 Flynn Ave Suite 3A\, Burlington\, VT\, 05401\, United States
ATTACH;FMTTYPE=image/jpeg:https://expressiveartsburlington.com/wp-content/uploads/2024/05/IMG_8338-scaled.jpg
END:VEVENT
BEGIN:VEVENT
DTSTART;TZID=America/New_York:20260309T183000
DTEND;TZID=America/New_York:20260309T210000
DTSTAMP:20260422T132126
CREATED:20260304T224016Z
LAST-MODIFIED:20260304T225357Z
UID:6393-1773081000-1773090000@expressiveartsburlington.com
SUMMARY:Collage Collective
DESCRIPTION:Collage Collective\nSecond Monday of the month \n6:30 – 9:00 PM ET \nIn Studio & Online\nDonation-based\n  \n\n\nZoom Login\n\nLink: Click Here \nMeeting ID:  824 2282 7990 \nPasscode: 185624 \n\n\n\n\n\nThis is an open group of collage enthusiasts who gather the second Monday of the month\, 6:30 pm – 9:00 pm EST to cut\, paste and create collaging works of wonder. Open to beginners and experienced collage makers alike. We have fun!  We meet in studio and simultaneously via zoom. If you are joining from home\, gather your materials and zoom in. We do a check in and sometimes chat\, sometimes get right into the work. Inspiring music is played\, (you can turn off your volume if preferred!) Depending on the crowd we will stop 30 to 45 minutes before 9:00 pm to share and witness. No judgment\, no talent required.  \nSubmit your donation in advance by registering through the link below or submit your donation upon arrival. Any contribution is greatly appreciated. Thank you for your generosity! \n\nRegister
URL:https://expressiveartsburlington.com/event/collage-collective-13-2-2-2-2-2-2-2-2-2-2-2-2-2-3-2-2/
LOCATION:Online & In Studio\, 208 Flynn Ave\, Suite #3A\, Burlington\, VT\, 05401\, United States
ATTACH;FMTTYPE=image/jpeg:https://expressiveartsburlington.com/wp-content/uploads/2020/02/collage-collective.jpg
END:VEVENT
BEGIN:VEVENT
DTSTART;TZID=America/New_York:20260315T093000
DTEND;TZID=America/New_York:20260315T160000
DTSTAMP:20260422T132126
CREATED:20260307T213142Z
LAST-MODIFIED:20260307T221529Z
UID:6437-1773567000-1773590400@expressiveartsburlington.com
SUMMARY:Visual Storytelling with Story Cloth
DESCRIPTION:Visual Storytelling with Story Cloth\nDate:  Sunday March 15\, 2026  \nTime: 9:30am–4:00pm Pacific Time \nLocation: NWCEAI Studio: 1631 15th Ave. W. Ste 305\, Seattle\, WA | limited to 15 participants\nFacilitator: Topaz Weis\, REACE\nCost: $199.00 \nRegistration Deadline: Thursday March 12\, 2026\nStory Cloth is a form of non-verbal self expression that can depict experiences of joy\, inspiration and healing. Experiences of trauma or grief\, that may be hard to express in words\, can also be crafted on fabric in an easily understood language of personal expression. \nThis workshop taps into a creative revival of passing on family stories\, recovering dream imagery or making political statements in cloth as many cultures around the world have done for generations. Come to the studio and stitch\, tack\, weave or hot glue your personal story in this six hour celebration of fabric\, yarn and mixed media materials. A short video and guided visualization will help get you on the path to accessing imagery containing personal meaning to craft your own story cloth. Please bring a journal as there will be a writing component to the process. \nThe facilitator\, Topaz Weis will be offering a framework for understanding Story Cloth across cultures and through time. She will help brainstorm and lend her expertise to any materials or technique challenges. \n\nClick HERE for more information and to register.
URL:https://expressiveartsburlington.com/event/6437/
LOCATION:NWCEAI Studio\, 1631 15th Ave. W.\, Suite 305\, Seattle\, WA\, 98119\, United States
ATTACH;FMTTYPE=image/jpeg:https://expressiveartsburlington.com/wp-content/uploads/2026/03/Visual-Storytelling-with-Storycloth-340x340-1.jpeg
END:VEVENT
BEGIN:VEVENT
DTSTART;TZID=America/New_York:20260317T183000
DTEND;TZID=America/New_York:20260317T203000
DTSTAMP:20260422T132126
CREATED:20260304T231812Z
LAST-MODIFIED:20260304T234757Z
UID:6405-1773772200-1773779400@expressiveartsburlington.com
SUMMARY:Open Studio
DESCRIPTION:Every first and third Tuesday\n6:30 – 8:30 PM ET\nIn studio & online\nDonation-based\n\n\nEvery fourth Thursday\n12:30 – 2:30 PM ET\nIn studio & online\nDonation-based\n  \n\n\n\n\n\nOpen Studio starts with a guided meditation\, followed by an hour + of art making and concludes with a share and witness process. Feel free to use the time and music to engage in which-ever expressive modality moves you. Gather  your favorite materials to zoom in with or start something new with studio materials. No experience required. Enter the flow with us in this nonjudgmental circle of acceptance and creative energy.  Meet new friends and make art in a creative community setting. Many materials available in studio. \nSubmit your donation in advance by registering through the link below or submit your donation upon arrival. Any contribution is greatly appreciated. Thank you for your generosity! \nZoom Meeting Link\n\n\n\nRegister
URL:https://expressiveartsburlington.com/event/open-studio-44-2-2-2-2-5-2-2-2-2-6-11-2-2/
LOCATION:Expressive Arts Burlington\, 208 Flynn Ave Suite 3A\, Burlington\, VT\, 05401\, United States
ATTACH;FMTTYPE=image/png:https://expressiveartsburlington.com/wp-content/uploads/2023/01/OPEN-STUDIO.png
END:VEVENT
BEGIN:VEVENT
DTSTART;TZID=America/New_York:20260326T123000
DTEND;TZID=America/New_York:20260326T143000
DTSTAMP:20260422T132126
CREATED:20260304T234938Z
LAST-MODIFIED:20260304T234938Z
UID:6425-1774528200-1774535400@expressiveartsburlington.com
SUMMARY:Open Studio
DESCRIPTION:Every first and third Tuesday\n6:30 – 8:30 PM ET\nIn studio & online\nDonation-based\n\n\nEvery fourth Thursday\n12:30 – 2:30 PM ET\nIn studio & online\nDonation-based\n  \n\n\n\n\n\nOpen Studio starts with a guided meditation\, followed by an hour + of art making and concludes with a share and witness process. Feel free to use the time and music to engage in which-ever expressive modality moves you. Gather  your favorite materials to zoom in with or start something new with studio materials. No experience required. Enter the flow with us in this nonjudgmental circle of acceptance and creative energy.  Meet new friends and make art in a creative community setting. Many materials available in studio. \nSubmit your donation in advance by registering through the link below or submit your donation upon arrival. Any contribution is greatly appreciated. Thank you for your generosity! \nZoom Meeting Link\n\n\n\nRegister
URL:https://expressiveartsburlington.com/event/open-studio-44-2-2-2-2-5-2-2-2-2-6-11-2-2-2/
LOCATION:Expressive Arts Burlington\, 208 Flynn Ave Suite 3A\, Burlington\, VT\, 05401\, United States
ATTACH;FMTTYPE=image/png:https://expressiveartsburlington.com/wp-content/uploads/2023/01/OPEN-STUDIO.png
END:VEVENT
END:VCALENDAR