BEGIN:VCALENDAR
VERSION:2.0
PRODID:-//Expressive Arts Burlington - ECPv6.15.20//NONSGML v1.0//EN
CALSCALE:GREGORIAN
METHOD:PUBLISH
X-WR-CALNAME:Expressive Arts Burlington
X-ORIGINAL-URL:https://expressiveartsburlington.com
X-WR-CALDESC:Events for Expressive Arts Burlington
REFRESH-INTERVAL;VALUE=DURATION:PT1H
X-Robots-Tag:noindex
X-PUBLISHED-TTL:PT1H
BEGIN:VTIMEZONE
TZID:America/New_York
BEGIN:DAYLIGHT
TZOFFSETFROM:-0500
TZOFFSETTO:-0400
TZNAME:EDT
DTSTART:20240310T070000
END:DAYLIGHT
BEGIN:STANDARD
TZOFFSETFROM:-0400
TZOFFSETTO:-0500
TZNAME:EST
DTSTART:20241103T060000
END:STANDARD
BEGIN:DAYLIGHT
TZOFFSETFROM:-0500
TZOFFSETTO:-0400
TZNAME:EDT
DTSTART:20250309T070000
END:DAYLIGHT
BEGIN:STANDARD
TZOFFSETFROM:-0400
TZOFFSETTO:-0500
TZNAME:EST
DTSTART:20251102T060000
END:STANDARD
BEGIN:DAYLIGHT
TZOFFSETFROM:-0500
TZOFFSETTO:-0400
TZNAME:EDT
DTSTART:20260308T070000
END:DAYLIGHT
BEGIN:STANDARD
TZOFFSETFROM:-0400
TZOFFSETTO:-0500
TZNAME:EST
DTSTART:20261101T060000
END:STANDARD
END:VTIMEZONE
BEGIN:VEVENT
DTSTART;TZID=America/New_York:20250327T123000
DTEND;TZID=America/New_York:20250327T143000
DTSTAMP:20260423T090016
CREATED:20240912T191330Z
LAST-MODIFIED:20240912T191330Z
UID:6265-1743078600-1743085800@expressiveartsburlington.com
SUMMARY:Open Studio
DESCRIPTION:Open Studio starts with a guided meditation\, followed by an hour + of art making and concludes with a share and witness process. Feel free to use the time and music to engage in which-ever expressive modality moves you. Gather  your favorite materials to zoom in with or start something new with studio materials. No experience required. Enter the flow with us in this nonjudgmental circle of acceptance and creative energy.  Meet new friends and make art in a creative community setting. Many materials available in studio. \nDonation-based: Donate via PayPal\, Venmo\, cash\, or check.\nIn studio & online \nZoom Link: Click here\nMeeting ID: 828 7378 3298\nPasscode: 371361
URL:https://expressiveartsburlington.com/event/open-studio-44-2-2-2-2-5-2-2/
LOCATION:Expressive Arts Burlington\, 208 Flynn Ave Suite 3A\, Burlington\, VT\, 05401\, United States
ATTACH;FMTTYPE=image/jpeg:https://expressiveartsburlington.com/wp-content/uploads/2023/09/IMG_4289-scaled.jpg
END:VEVENT
BEGIN:VEVENT
DTSTART;TZID=America/New_York:20250401T183000
DTEND;TZID=America/New_York:20250401T203000
DTSTAMP:20260423T090016
CREATED:20250214T001311Z
LAST-MODIFIED:20250214T001311Z
UID:6316-1743532200-1743539400@expressiveartsburlington.com
SUMMARY:Open Studio
DESCRIPTION:Open Studio starts with a guided meditation\, followed by an hour + of art making and concludes with a share and witness process. Feel free to use the time and music to engage in which-ever expressive modality moves you. Gather  your favorite materials to zoom in with or start something new with studio materials. No experience required. Enter the flow with us in this nonjudgmental circle of acceptance and creative energy.  Meet new friends and make art in a creative community setting. Many materials available in studio. \nDonation-based: Donate via PayPal\, Venmo\, cash\, or check.\nIn studio & online \nZoom Link: Click here\nMeeting ID: 828 7378 3298\nPasscode: 371361
URL:https://expressiveartsburlington.com/event/open-studio-44-2-2-2-2-5-2-3/
LOCATION:VT
ATTACH;FMTTYPE=image/jpeg:https://expressiveartsburlington.com/wp-content/uploads/2023/09/IMG_4289-scaled.jpg
END:VEVENT
BEGIN:VEVENT
DTSTART;TZID=America/New_York:20250414T183000
DTEND;TZID=America/New_York:20250414T210000
DTSTAMP:20260423T090016
CREATED:20240828T011111Z
LAST-MODIFIED:20240828T011111Z
UID:6204-1744655400-1744664400@expressiveartsburlington.com
SUMMARY:Collage Collective
DESCRIPTION:This is an open group of collage enthusiasts who gather the second Monday of the month\, 6:30 pm – 9:00 pm EST to cut\, paste and create collaging works of wonder. Open to beginners and experienced collage makers alike. We have fun!  We meet in studio and simultaneously via zoom. If you are joining from home\, gather your materials and zoom in. We do a check in and sometimes chat\, sometimes get right into the work. Inspiring music is played\, (you can turn off your volume if preferred!) Depending on the crowd we will stop 30 to 45 minutes before 9:00 pm to share and witness. No judgment\, no talent required.  \nGo to page –>
URL:https://expressiveartsburlington.com/event/collage-collective-13-2-2-2-2-2-2-2-2-2-2/
LOCATION:Expressive Arts Burlington\, 208 Flynn Ave Suite 3A\, Burlington\, VT\, 05401\, United States
ATTACH;FMTTYPE=image/jpeg:https://expressiveartsburlington.com/wp-content/uploads/2024/05/IMG_8338-scaled.jpg
END:VEVENT
BEGIN:VEVENT
DTSTART;TZID=America/New_York:20250415T183000
DTEND;TZID=America/New_York:20250415T203000
DTSTAMP:20260423T090016
CREATED:20250214T001437Z
LAST-MODIFIED:20250214T001437Z
UID:6314-1744741800-1744749000@expressiveartsburlington.com
SUMMARY:Open Studio
DESCRIPTION:Open Studio starts with a guided meditation\, followed by an hour + of art making and concludes with a share and witness process. Feel free to use the time and music to engage in which-ever expressive modality moves you. Gather  your favorite materials to zoom in with or start something new with studio materials. No experience required. Enter the flow with us in this nonjudgmental circle of acceptance and creative energy.  Meet new friends and make art in a creative community setting. Many materials available in studio. \nDonation-based: Donate via PayPal\, Venmo\, cash\, or check.\nIn studio & online \nZoom Link: Click here\nMeeting ID: 828 7378 3298\nPasscode: 371361
URL:https://expressiveartsburlington.com/event/open-studio-44-2-2-2-2-5-2-4/
LOCATION:VT
ATTACH;FMTTYPE=image/jpeg:https://expressiveartsburlington.com/wp-content/uploads/2023/09/IMG_4289-scaled.jpg
END:VEVENT
BEGIN:VEVENT
DTSTART;TZID=America/New_York:20250424T123000
DTEND;TZID=America/New_York:20250424T143000
DTSTAMP:20260423T090016
CREATED:20250214T001703Z
LAST-MODIFIED:20250214T001703Z
UID:6321-1745497800-1745505000@expressiveartsburlington.com
SUMMARY:Open Studio
DESCRIPTION:Open Studio starts with a guided meditation\, followed by an hour + of art making and concludes with a share and witness process. Feel free to use the time and music to engage in which-ever expressive modality moves you. Gather  your favorite materials to zoom in with or start something new with studio materials. No experience required. Enter the flow with us in this nonjudgmental circle of acceptance and creative energy.  Meet new friends and make art in a creative community setting. Many materials available in studio. \nDonation-based: Donate via PayPal\, Venmo\, cash\, or check.\nIn studio & online \nZoom Link: Click here\nMeeting ID: 828 7378 3298\nPasscode: 371361
URL:https://expressiveartsburlington.com/event/open-studio-44-2-2-2-2-5-2-2-2-2/
LOCATION:VT
ATTACH;FMTTYPE=image/jpeg:https://expressiveartsburlington.com/wp-content/uploads/2023/09/IMG_4289-scaled.jpg
END:VEVENT
BEGIN:VEVENT
DTSTART;TZID=America/New_York:20250506T183000
DTEND;TZID=America/New_York:20250506T203000
DTSTAMP:20260423T090016
CREATED:20250214T001933Z
LAST-MODIFIED:20250214T001933Z
UID:6330-1746556200-1746563400@expressiveartsburlington.com
SUMMARY:Open Studio
DESCRIPTION:Open Studio starts with a guided meditation\, followed by an hour + of art making and concludes with a share and witness process. Feel free to use the time and music to engage in which-ever expressive modality moves you. Gather  your favorite materials to zoom in with or start something new with studio materials. No experience required. Enter the flow with us in this nonjudgmental circle of acceptance and creative energy.  Meet new friends and make art in a creative community setting. Many materials available in studio. \nDonation-based: Donate via PayPal\, Venmo\, cash\, or check.\nIn studio & online \nZoom Link: Click here\nMeeting ID: 828 7378 3298\nPasscode: 371361
URL:https://expressiveartsburlington.com/event/open-studio-44-2-2-2-2-5-2-2-2-2-2/
LOCATION:VT
ATTACH;FMTTYPE=image/jpeg:https://expressiveartsburlington.com/wp-content/uploads/2023/09/IMG_4289-scaled.jpg
END:VEVENT
END:VCALENDAR