BEGIN:VCALENDAR
VERSION:2.0
PRODID:-//Expressive Arts Burlington - ECPv6.15.20//NONSGML v1.0//EN
CALSCALE:GREGORIAN
METHOD:PUBLISH
X-WR-CALNAME:Expressive Arts Burlington
X-ORIGINAL-URL:https://expressiveartsburlington.com
X-WR-CALDESC:Events for Expressive Arts Burlington
REFRESH-INTERVAL;VALUE=DURATION:PT1H
X-Robots-Tag:noindex
X-PUBLISHED-TTL:PT1H
BEGIN:VTIMEZONE
TZID:UTC
BEGIN:STANDARD
TZOFFSETFROM:+0000
TZOFFSETTO:+0000
TZNAME:UTC
DTSTART:20220101T000000
END:STANDARD
END:VTIMEZONE
BEGIN:VEVENT
DTSTART;VALUE=DATE:20231031
DTEND;VALUE=DATE:20231101
DTSTAMP:20260423T110731
CREATED:20230816T214723Z
LAST-MODIFIED:20230816T214723Z
UID:5198-1698710400-1698796799@expressiveartsburlington.com
SUMMARY:NO SOULCOLLAGE MEETING
DESCRIPTION:No SoulCollage Meeting this week.
URL:https://expressiveartsburlington.com/event/no-soulcollage-meeting-2/
LOCATION:WA
END:VEVENT
END:VCALENDAR