BEGIN:VCALENDAR
VERSION:2.0
PRODID:-//Expressive Arts Burlington - ECPv6.15.20//NONSGML v1.0//EN
CALSCALE:GREGORIAN
METHOD:PUBLISH
X-ORIGINAL-URL:https://expressiveartsburlington.com
X-WR-CALDESC:Events for Expressive Arts Burlington
REFRESH-INTERVAL;VALUE=DURATION:PT1H
X-Robots-Tag:noindex
X-PUBLISHED-TTL:PT1H
BEGIN:VTIMEZONE
TZID:UTC
BEGIN:STANDARD
TZOFFSETFROM:+0000
TZOFFSETTO:+0000
TZNAME:UTC
DTSTART:20220101T000000
END:STANDARD
END:VTIMEZONE
BEGIN:VEVENT
DTSTART;TZID=UTC:20231004T093000
DTEND;TZID=UTC:20231004T120000
DTSTAMP:20260421T190753
CREATED:20230424T184744Z
LAST-MODIFIED:20230816T214932Z
UID:4664-1696411800-1696420800@expressiveartsburlington.com
SUMMARY:Dance\, Paint\, Write! Session 3
DESCRIPTION:Go to page »
URL:https://expressiveartsburlington.com/event/dance-paint-write-session-3/
LOCATION:Expressive Arts Burlington\, 208 Flynn Ave Suite 3A\, Burlington\, VT\, 05401\, United States
END:VEVENT
END:VCALENDAR