BEGIN:VCALENDAR
VERSION:2.0
PRODID:-//Expressive Arts Burlington - ECPv6.15.20//NONSGML v1.0//EN
CALSCALE:GREGORIAN
METHOD:PUBLISH
X-WR-CALNAME:Expressive Arts Burlington
X-ORIGINAL-URL:https://expressiveartsburlington.com
X-WR-CALDESC:Events for Expressive Arts Burlington
REFRESH-INTERVAL;VALUE=DURATION:PT1H
X-Robots-Tag:noindex
X-PUBLISHED-TTL:PT1H
BEGIN:VTIMEZONE
TZID:UTC
BEGIN:STANDARD
TZOFFSETFROM:+0000
TZOFFSETTO:+0000
TZNAME:UTC
DTSTART:20220101T000000
END:STANDARD
END:VTIMEZONE
BEGIN:VEVENT
DTSTART;TZID=UTC:20230921T123000
DTEND;TZID=UTC:20230921T143000
DTSTAMP:20260421T073706
CREATED:20230703T183248Z
LAST-MODIFIED:20230703T183248Z
UID:5081-1695299400-1695306600@expressiveartsburlington.com
SUMMARY:Open Studio
DESCRIPTION:Donation-based: Donate via PayPal\, Venmo\, cash\, or check.\nIn studio & online \nZoom Link: Click here\nMeeting ID: 828 7378 3298\nPasscode: 371361
URL:https://expressiveartsburlington.com/event/open-studio-22/
LOCATION:Expressive Arts Burlington\, 208 Flynn Ave Suite 3A\, Burlington\, VT\, 05401\, United States
END:VEVENT
BEGIN:VEVENT
DTSTART;TZID=UTC:20230921T174500
DTEND;TZID=UTC:20230921T210000
DTSTAMP:20260421T073706
CREATED:20230912T215812Z
LAST-MODIFIED:20230912T215812Z
UID:5431-1695318300-1695330000@expressiveartsburlington.com
SUMMARY:Soulful Vision Boarding with Terri Severance
DESCRIPTION:More details to come!
URL:https://expressiveartsburlington.com/event/soulful-vision-boarding-with-terri-severance/
LOCATION:WA
END:VEVENT
END:VCALENDAR