BEGIN:VCALENDAR
VERSION:2.0
PRODID:-//Expressive Arts Burlington - ECPv6.15.20//NONSGML v1.0//EN
CALSCALE:GREGORIAN
METHOD:PUBLISH
X-WR-CALNAME:Expressive Arts Burlington
X-ORIGINAL-URL:https://expressiveartsburlington.com
X-WR-CALDESC:Events for Expressive Arts Burlington
REFRESH-INTERVAL;VALUE=DURATION:PT1H
X-Robots-Tag:noindex
X-PUBLISHED-TTL:PT1H
BEGIN:VTIMEZONE
TZID:UTC
BEGIN:STANDARD
TZOFFSETFROM:+0000
TZOFFSETTO:+0000
TZNAME:UTC
DTSTART:20220101T000000
END:STANDARD
END:VTIMEZONE
BEGIN:VEVENT
DTSTART;TZID=UTC:20230919T183000
DTEND;TZID=UTC:20230919T203000
DTSTAMP:20260421T073710
CREATED:20230424T181203Z
LAST-MODIFIED:20230424T185527Z
UID:4609-1695148200-1695155400@expressiveartsburlington.com
SUMMARY:SoulCollage®: Meet the Suits (Session 2: Council)
DESCRIPTION:Go to page »
URL:https://expressiveartsburlington.com/event/soulcollage-meet-the-suits-session-2-council/
LOCATION:Expressive Arts Burlington\, 208 Flynn Ave Suite 3A\, Burlington\, VT\, 05401\, United States
END:VEVENT
END:VCALENDAR